BEGIN:VCALENDAR
VERSION:2.0
PRODID:-//Kurt Studer,  Romanautor - ECPv5.8.0//NONSGML v1.0//EN
CALSCALE:GREGORIAN
METHOD:PUBLISH
X-WR-CALNAME:Kurt Studer,  Romanautor
X-ORIGINAL-URL:https://kurtstuder.ch
X-WR-CALDESC:Veranstaltungen für Kurt Studer,  Romanautor
BEGIN:VTIMEZONE
TZID:Europe/Zurich
BEGIN:DAYLIGHT
TZOFFSETFROM:+0100
TZOFFSETTO:+0200
TZNAME:CEST
DTSTART:20260329T010000
END:DAYLIGHT
BEGIN:STANDARD
TZOFFSETFROM:+0200
TZOFFSETTO:+0100
TZNAME:CET
DTSTART:20261025T010000
END:STANDARD
END:VTIMEZONE
BEGIN:VEVENT
DTSTART;TZID=Europe/Zurich:20260409T160000
DTEND;TZID=Europe/Zurich:20260409T170000
DTSTAMP:20260423T115154
CREATED:20250910T190901Z
LAST-MODIFIED:20250910T190901Z
UID:748-1775750400-1775754000@kurtstuder.ch
SUMMARY:"Belogen\, betrogen" in 8049 Zürich
DESCRIPTION:Kurt Studer stellt den zweiten Band der Perren-Schlegel-Saga\, „Belogen\, betrogen“\, vor.
URL:https://kurtstuder.ch/event/belogen-betrogen-in-8049-zuerich/
LOCATION:Tertianum-Residenz Im Brühl\, Kappenbühlweg 11\, Zürich\, 8049
END:VEVENT
END:VCALENDAR