BEGIN:VCALENDAR
VERSION:2.0
PRODID:-//Kurt Studer,  Romanautor - ECPv5.8.0//NONSGML v1.0//EN
CALSCALE:GREGORIAN
METHOD:PUBLISH
X-WR-CALNAME:Kurt Studer,  Romanautor
X-ORIGINAL-URL:https://kurtstuder.ch
X-WR-CALDESC:Veranstaltungen für Kurt Studer,  Romanautor
BEGIN:VTIMEZONE
TZID:Europe/Zurich
BEGIN:DAYLIGHT
TZOFFSETFROM:+0100
TZOFFSETTO:+0200
TZNAME:CEST
DTSTART:20260329T010000
END:DAYLIGHT
BEGIN:STANDARD
TZOFFSETFROM:+0200
TZOFFSETTO:+0100
TZNAME:CET
DTSTART:20261025T010000
END:STANDARD
END:VTIMEZONE
BEGIN:VEVENT
DTSTART;TZID=Europe/Zurich:20260711T110000
DTEND;TZID=Europe/Zurich:20260711T130000
DTSTAMP:20260423T130808
CREATED:20260418T181920Z
LAST-MODIFIED:20260418T181920Z
UID:765-1783767600-1783774800@kurtstuder.ch
SUMMARY:Die Perren-Schlegel-Saga in 8452 Dätwil
DESCRIPTION:Kurt Studer stellt die Perren-Schlegel-Saga im Rahmen von Mirj’s Gartentagen vor (bei schlechtem Wetter in der Schreinerei). \nGartenöffnung:         ab 10 Uhr \nLesung:                      11 Uhr bis 13 Uhr (mit 30 Minuten Pause) \nApéro/Lunch:           13 Uhr bis 14 Uhr (anschliessend Nachmittagslesung) \nUnkostenbeitrag:      Fr. 40.00 (für die Matinéelesung inkl. Verpflegung und Getränke)
URL:https://kurtstuder.ch/event/die-perren-schlegel-saga-in-8452-daetwil/
LOCATION:Mirj’s Gartentage\, Vorstatt 2\, Dätwil\, 8452
END:VEVENT
END:VCALENDAR